Workbook
Name CaseACocher1: 'Grille d''analyse'!$B$6
Name CaseACocher2: 'Grille d''analyse'!$C$6

Sheet Identification et signature
A1: IDENTIFICATION DU PROMOTEUR
A2: Nom de l’organisme responsable du projet | B2: Numéro d’entreprise du Québec (NEQ)
A4: Nom du projet
A6: Personne responsable et titre | B6: Numéro de téléphone
A8: Adresse complète | B8: Courriel
A10: Date du début du projet | B10: Montant demandé
A12: Date approximative de fin du projet | B12: Coût total du projet
A15: DÉCLARATION DE L’ORGANISME ET AUTORISATION DE PUBLICATION
A16: En tant que personne autorisée par résolution à agir au nom de l’organisme, je confirme que les renseignements fournis dans cette demande et les documents afférents sont complets et véridiques en tout point et je m'engage à fournir aux représentants de la MRC d’Abitibi toute l'information nécessaire à l'analyse du projet.
A17: J’atteste également que la déclaration annuelle 2022 de mon entreprise/organisation a été faite et qu’elle est à jour auprès des instances gouvernementales.
A18: En tant que personne autorisée par résolution à agir au nom de l’organisme, j'accepte que la MRC d’Abitibi cite le titre de notre projet, le nom de notre organisme ou comité et le montant financé par le Fonds de la MRC d’Abitibi dans ses publicités, communiqués de presse ou tout autre outil faisant la promotion du Fonds.
A19: Signature personne autorisée à déposer :
A20: Date :
A21: Signature direction générale :
A22: Date :
A24: Documents à joindre à la demande d’aide financière
A25: Pour toutes les demandes
A26: Pour les entreprises privées et les OBL, copie des états financiers des trois dernières années
A27: Copie des confirmations de partenariat financier, technique ou organisme bénévole
... A41: d'impression dans la page du budget.

Sheet Volet 1 - Innov. & Dév.
A1: Veuillez compléter cet onglet pour le volet régulier du Fonds touristique, soit Innovation et développement. Si vous désirez déposer dans le volet Rénovation/réparation/acquisition d'équipements de base, vous n'avez pas à compléter cet onglet. Veuillez compléter l'onglet "Volet 2 - Rénos-Acquisition"
A3: Pour insérer des puces : Tenir la touche ALT et taper 0149, puis relâcher (ne PAS faire ENTER, simplement relâcher)
A4: Pour changer de ligne : Tenir les touches ALT + ENTER en même temps
A6: DESCRIPTION DU PROJET
A7: Description détaillée du projet
A9: Objectifs du projet
A11: Est-ce que votre projet sera accessible pendant plusieurs saisons (été, automne, hiver, printemps) ? Expliquez.
A13: Est-ce que le projet émane d'une problématique nommée par les visiteurs ou les partenaires ? Si oui, en quoi le projet répond-il à la problématique ?
A16: INNOVATION - NOUVEAU CONCEPT
A17: Décrivez en quoi votre projet présente un nouveau concept (innovation) au sein de la MRC?
A19: Décrivez en quoi votre projet présente un nouveau concept (innovation) au sein de la région ?
A22: De quelle façon les visiteurs vivront-ils une expérience d’accueil ? Visuelle, sensorielle, gustative ou auditive ?
... A69: d'impression dans la page du budget.

Sheet Volet 1 - Budget
A2: DÉPENSES PRÉVISIONNELLES LORS DU DÉPÔT | E2: DÉPENSES RÉELLES FINALES
A3: Achat prévisionnel (sans taxes) | B3: Dépenses monétaires prévues lors du dépôt | C3: % | E3: Dépenses monétaires réelles (sans taxes) | G3: %
C4: =IF(B4>0,(B4/$B$13),"") | G4: =IF(E4>0,(E4/$E$13),"")
C5: =IF(B5>0,(B5/$B$13),"") | G5: =IF(E5>0,(E5/$E$13),"")
C6: =IF(B6>0,(B6/$B$13),"") | G6: =IF(E6>0,(E6/$E$13),"")
C7: =IF(B7>0,(B7/$B$13),"") | G7: =IF(E7>0,(E7/$E$13),"")
C8: =IF(B8>0,(B8/$B$13),"") | G8: =IF(E8>0,(E8/$E$13),"")
C9: =IF(B9>0,(B9/$B$13),"") | G9: =IF(E9>0,(E9/$E$13),"")
C10: =IF(B10>0,(B10/$B$13),"") | G10: =IF(E10>0,(E10/$E$13),"")
C11: =IF(B11>0,(B11/$B$13),"") | G11: =IF(E11>0,(E11/$E$13),"")
A12: Insérez les taxes non-recouvrables | C12: =IF(B12>0,(B12/$B$13),"") | E12: =G81 -> 0 | G12: =IF(E12>0,(E12/$E$13),"")
A13: SOMME TOTALE : | B13: =SUM(B4:B12) -> 0 | C13: =SUM(C4:C12) -> 0 | E13: =E4+E5+E6+E7+E8+E9+E10+E11+E12 -> 0 | G13: =SUM(G4:G12) -> 0
A14: Assurez-vous que les cases de mêmes couleurs arrivent aux mêmes montants dans les tableaux des revenus et dépenses
A16: Subvention maximale de la MRC de 80 % du coût total du projet jusqu'à concurrence de 20 000 $.
A17: Le promoteur doit obligatoirement injecter un minimum de 10 % du coût total du projet en argent.
A18: L'autre 10 % du coût total du projet doit être injecté en argent par le promoteur ou des partenaires financiers.
A19: REVENUS PRÉVISIONNELS LORS DU DÉPÔT | E19: REVENUS RÉELS FINAUX
A20: Source de revenus pour le projet sans taxes | B20: Revenus monétaires prévus lors du dépôt | C20: % | E20: Revenus monétaires réels sans taxes | G20: %
C21: =IF(B21>0,(B21/$B$26),"") | G21: =IF(E21>0,(E21/$E$26),"")
C22: =IF(B22>0,(B22/$B$26),"") | G22: =IF(E22>0,(E22/$E$26),"")
C23: =IF(B23>0,(B23/$B$26),"") | G23: =IF(E23>0,(E23/$E$26),"")
C24: =IF(B24>0,(B24/$B$26),"") | G24: =IF(E24>0,(E24/$E$26),"")
C25: =IF(B25>0,(B25/$B$26),"") | G25: =IF(E25>0,(E25/$E$26),"")
A26: SOMME TOTALE : | B26: =SUM(B21:B25) -> 0 | C26: =SUM(C21:C25) -> 0 | E26: =SUM(E21:E25) -> 0 | G26: =SUM(G21:G25) -> 0
A27: Assurez-vous que les cases de mêmes couleurs arrivent aux mêmes montants dans les tableaux des revenus et dépenses
A29: Subvention maximale du Fonds touristique = Coût total du projet X 80 % | F29: =B26*0.7 -> 0
A30: Montant minimal injecté par le promoteur = Coût total du projet X 10 % | F30: =B26*0.1 -> 0
A33: Afin de démontrer l'implication dans le milieu, veuillez compléter ce tableau.
A34: COMMANDITES / BIENS ET SERVICES / BÉNÉVOLAT (non-finançable) | E34: BIENS ET SERVICES RÉELS
A35: Tâches accomplies en biens et services ou bénévolat | B35: Temps homme à 25$/heure | C35: % | E35: Valeur réelle à 25 $/h | G35: %
C36: =IF(B36>0,(B36/$B$26),"") | G36: =IF(E36>0,(E36/$E$26),"")
C37: =IF(B37>0,(B37/$B$26),"") | G37: =IF(E37>0,(E37/$E$26),"")
C38: =IF(B38>0,(B38/$B$26),"") | G38: =IF(E38>0,(E38/$E$26),"")
C39: =IF(B39>0,(B39/$B$26),"") | G39: =IF(E39>0,(E39/$E$26),"")
A40: SOMME TOTALE : | B40: =SUM(B36:B39) -> 0 | C40: =SUM(C36:C39) -> 0 | E40: =SUM(E36:E39) -> 0 | G40: =SUM(G36:G39) -> 0
A44: Précisez le pourcentage de taxes que votre organisme récupère auprès du gouvernement
A45: TPS : | B45: TVQ :
A48: Transmettre toutes les factures incluses dans ce tableau svp!
A49: Si vous êtes une municipalité, entrez seulement la TVQ
A50: DÉTAILS DES FACTURES - DÉPENSES
...

Sheet Volet 2 - Rénos-Acquisition
A1: Veuillez compléter cet onglet seulement si vous désirez déposer dans le nouveau volet du Fonds touristique, soit Entretien/réparation/acquisition d'équipements de base
A3: DANS QUEL VOLET DÉPOSEZ-VOUS VOTRE DEMANDE D'AIDE FINANCIÈRE ?
A4: Volet Entretien et réparation (cochez)
A5: Volet acquisition d'équipements de base (cochez)
A7: Nombre d'années d'existence de l'attrait touristique
A8: Nombre d'années depuis les derniers investissements pour entretenir ou réparer cet attrait
A10: DESCRIPTION DU PROJET
A11: Description détaillée du projet
A13: En quoi les améliorations ou l'acquisition d'équipements permettront un accueil optimisé des touristes?
A20: Pour insérer des puces : Tenir la touche ALT et taper 0149, puis relâcher (ne PAS faire ENTER, simplement relâcher)
A21: Pour changer de ligne : Tenir les touches ALT + ENTER en même temps
A23: Pour imprimer le document au complet, sélectionnez dans vos paramètres "imprimez tout le classeur"
... A25: d'impression dans la page du budget.

Sheet Volet 2 - Budget
A4: DÉPENSES PRÉVISIONNELLES LORS DU DÉPÔT | E4: DÉPENSES RÉELLES FINALES
A5: Achat réel (sans taxes) | B5: Dépenses monétaires prévues lors du dépôt | C5: % | E5: Dépenses monétaires réelles (sans taxes) | G5: %
C6: =IF(B6>0,(B6/$B$15),"") | G6: =IF(E6>0,(E6/$E$15),"")
C7: =IF(B7>0,(B7/$B$15),"") | G7: =IF(E7>0,(E7/$E$15),"")
C8: =IF(B8>0,(B8/$B$15),"") | G8: =IF(E8>0,(E8/$E$15),"")
C9: =IF(B9>0,(B9/$B$15),"") | G9: =IF(E9>0,(E9/$E$15),"")
C10: =IF(B10>0,(B10/$B$15),"") | G10: =IF(E10>0,(E10/$E$15),"")
C11: =IF(B11>0,(B11/$B$15),"") | G11: =IF(E11>0,(E11/$E$15),"")
C12: =IF(B12>0,(B12/$B$15),"") | G12: =IF(E12>0,(E12/$E$15),"")
C13: =IF(B13>0,(B13/$B$15),"") | G13: =IF(E13>0,(E13/$E$15),"")
A14: Taxes non-recouvrables | C14: =IF(B14>0,(B14/$B$15),"") | E14: =G61 -> 0 | G14: =IF(E14>0,(E14/$E$15),"")
A15: SOMME TOTALE : | B15: =SUM(B6:B14) -> 0 | C15: =SUM(C6:C14) -> 0 | E15: =E6+E7+E8+E9+E10+E11+E12+E13+E14 -> 0 | G15: =SUM(G6:G14) -> 0
A16: Assurez-vous que les cases de mêmes couleurs arrivent aux mêmes montants dans les tableaux des revenus et dépenses
A18: Subvention maximale de la MRC de 50 % du coût total du projet jusqu'à concurrence de 5 000 $.
A19: Le promoteur (les partenaires sont exclus) doit obligatoirement injecter un minimum de 50 % en argent comptant.
A21: REVENUS PRÉVISIONNELS LORS DU DÉPÔT | E21: REVENUS RÉELS FINAUX
A22: Source de revenus pour le projet | B22: Revenus monétaires prévus lors du dépôt | C22: % | E22: Revenus monétaires réels | G22: %
A23: Subvention MRC | C23: =IF(B23>0,(B23/$B$25),"") | G23: =IF(E23>0,(E23/$E$25),"")
A24: Municipalité/OBNL/Entreprise | C24: =IF(B24>0,(B24/$B$25),"") | G24: =IF(E24>0,(E24/$E$25),"")
A25: SOMME TOTALE : | B25: =SUM(B23:B24) -> 0 | C25: =SUM(C23:C24) -> 0 | E25: =SUM(E23:E24) -> 0 | G25: =SUM(G23:G24) -> 0
A26: Assurez-vous que les cases de mêmes couleurs arrivent aux mêmes montants dans les tableaux des revenus et dépenses
A28: Précisez le pourcentage de recouvrement des taxes auprès du gouvernement
A29: TPS : | B29: TVQ :
A33: Transmettre toutes les factures incluses dans ce tableau svp!
A34: DÉTAILS DES FACTURES - DÉPENSES | G34: TAXES ADMISSIBLES | H34: Total admissible (coût + 50 % TVQ)
A35: Insérer le # de facture et le nom de l'entreprise | C35: Coût sans taxes | E35: TPS | F35: TVQ
G36: =F36/2 -> 0 | H36: =A36+G36 -> 0
G37: =F37/2 -> 0 | H37: =A37+G37 -> 0
G38: =F38/2 -> 0 | H38: =A38+G38 -> 0
G39: =F39/2 -> 0 | H39: =A39+G39 -> 0
G40: =F40/2 -> 0 | H40: =A40+G40 -> 0
G41: =F41/2 -> 0 | H41: =A41+G41 -> 0
G42: =F42/2 -> 0 | H42: =A42+G42 -> 0
G43: =F43/2 -> 0 | H43: =A43+G43 -> 0
G44: =F44/2 -> 0 | H44: =A44+G44 -> 0
G45: =F45/2 -> 0 | H45: =A45+G45 -> 0
G46: =F46/2 -> 0 | H46: =A46+G46 -> 0
G47: =F47/2 -> 0 | H47: =A47+G47 -> 0
... G59: =F59/2 -> 0 | H59: =A59+G59 -> 0
G60: =F60/2 -> 0 | H60: =SUM(H35:H59) -> 0
...

Sheet Rapport final
A3: Nom du promoteur :
A4: Titre du projet :
A5: # de dossier :
A6: Nombre d'emplois créés :
A7: LE PROJET A-T-IL ÉTÉ RÉALISÉ TEL QUE PRÉSENTÉ DANS LA DEMANDE DE FINANCEMENT ? OUI OU NON ?
A8: Si non, veuillez expliquer les écarts :
A15: QUELS SONT LES IMPACTS SUR LA QUALITÉ DE L'OFFRE TOURISTIQUE OFFERTE ?
A22: DE QUELLE FAÇON AVEZ-VOUS OFFERT DE LA VISIBILITÉ À LA MRC POUR LE FINANCEMENT DE VOTRE PROJET?
A30: SIGNATURE
A31: Signature de la personne autorisée à déposer le rapport final :
A32: Signature de la direction générale :
A33: Date :
A35: N'OUBLIEZ PAS DE TRANSMETTRE DES PHOTOS DE VOTRE PROJET COMPLÉTÉ

Sheet Grille d'analyse
A1: Nom du promoteur | B1: ='Identification et signature'!A3 -> 0
A2: Nom du projet | B2: ='Identification et signature'!A5 -> 0
A3: Numéro du projet
A5: ADMISSIBILITÉ DU PROJET | C5: OUI | D5: NON
A6: Le projet s’inscrit à l’intérieur d’un champ d’intervention prioritaire | C6: X
A7: • Favoriser l'hébergement alternatif, créatif qui fait vivre une expérience peu commune de nature; • Favoriser l'allongement la haute saison touristique etr le tourisme hivernal ; • Structurer la richesse de la ressource hydrique en général, d'aventure ou de plein air; • Développer et consolider l'offre touristique autochtone, favoriser une participation active autochtone; • Favoriser l'offre touristique générale faisant vivre des expériences centrées sur l'accueil et service à la clientèle ; • Rehausser la qualité de l'offre de façon différente, créative, technologique, artistique.
A8: Organisme ou entreprise admissible, signataire de la Charte ou en voie de le devenir | C8: X
A9: Les critères de financement du projet sont admissibles | C9: X
A10: La demande contient toutes les informations et documents exigés requis pour effectuer son analyse | C10: X
A11: Le promoteur a complété les projets pour lesquels il a obtenu du financement de la part de la MRC | C11: X
A12: Le projet est en opération continue et récurrente durant un minimum de 10 semaines par année et pour les événements au moins 1 jour. | C12: X
A13: Le Fonds ne se substitue pas à d’autres sources de financement disponibles en région | C13: X
A15: Note : Dans le cas où les critères de cette section ne sont pas respectés, le projet n’est pas présenté au comité d’analyse.
A17: Constat de la MRC
A18: - Projet admissible ou non
A20: Résumé du projet : | B20: ='Volet 1 - Innov. & Dév.'!A8 -> 0
A21: Objectifs poursuivis : | B21: ='Volet 1 - Innov. & Dév.'!A10 -> 0
A22: Montant demandé : | B22: ='Identification et signature'!B11 -> 0
A24: Éléments d’analyse (complété par l’analyste de la MRC) :
A27: PONDÉRATION COMPLÉTÉE PAR LE COMITÉ D’ANALYSE
A28: Les ½ points peuvent être utilisés par les analystes
A30: QUALITÉ DU PROMOTEUR ET DU PROJET | C30: MAX | D30: NOTE
A31: Le promoteur démontre qu’il a la capacité de réaliser le projet et d’en assurer la pérennité | C31: 2 PTS
A32: Les objectifs sont clairs, compréhensibles et démontrent de la pertinence avec le projet déposé (voir section "objectifs poursuivis" ci-haut) | C32: 2 PTS
A33: Le projet est bien présenté et démontre une certaine collecte d'informations pour que les analystes comprennent bien le contexte et les besoins en lien avec le projet | C33: 2 PTS
A34: ='Volet 1 - Innov. & Dév.'!A11 -> Est-ce que votre projet sera accessible pendant plusieurs saisons (été, automne, hiver, printemps) ? Expliquez. | C34: 2 PTS
A35: ='Volet 1 - Innov. & Dév.'!A12 -> 0
A36: ='Volet 1 - Innov. & Dév.'!A13 -> Est-ce que le projet émane d'une problématique nommée par les visiteurs ou les partenaires ? Si oui, en quoi le projet répond-il à la problématique ? | C36: 2 PT
A37: ='Volet 1 - Innov. & Dév.'!A20 -> 0
A38: ='Volet 1 - Innov. & Dév.'!A22 -> De quelle façon les visiteurs vivront-ils une expérience d’accueil ? Visuelle, sensorielle, gustative ou auditive ? | C38: 1 PT
A39: ='Volet 1 - Innov. & Dév.'!A23 -> 0
A40: ='Volet 1 - Innov. & Dév.'!A17 -> Décrivez en quoi votre projet présente un nouveau concept (innovation) au sein de la MRC? | C40: 1 PT
A41: ='Volet 1 - Innov. & Dév.'!A18 -> 0
A42: ='Volet 1 - Innov. & Dév.'!A19 -> Décrivez en quoi votre projet présente un nouveau concept (innovation) au sein de la région ? | C42: 1 PT
A43: ='Volet 1 - Innov. & Dév.'!A20 -> 0
A45: CHAMPS D'INTERVENTION PRIORITAIRES | C45: MAX | D45: NOTE
A46: Le projet répond aux champs d’interventions prioritaires (2 champs = 1 pt / 3 champs et + = 2 pts) | C46: 2 PTS
A47: Développer l'hébergement alternatif créatif (expérience nature/plein air)
A48: ='Volet 1 - Innov. & Dév.'!A26 -> 0
A49: Structurer l'expérience de la richesse hydrique, d'aventure et de plein air ;
...
