Workbook
Name CaseACocher1: 'Grille d''analyse'!$B$6
Name CaseACocher2: 'Grille d''analyse'!$C$6
Name Texte15: 'Signature et modalités'!$A$3
Name Texte22: 'Signature et modalités'!$A$5
Name Texte28: 'Signature et modalités'!$A$4

Sheet Identification et description
A1: IDENTIFICATION DU PROMOTEUR
A2: Nom de l’organisme responsable du projet | B2: Numéro d’entreprise du Québec (NEQ)
A4: Nom du projet
A6: Personne responsable et titre | B6: Numéro de téléphone
A8: Adresse complète | B8: Courriel
A10: Date du début du projet | B10: Montant demandé
A12: Date approximative de fin du projet | B12: Coût total du projet
A15: DESCRIPTION DU PROJET
A16: Localisation de l'activité et déroulement détaillé :
A18: Objectifs du projet
A20: Impacts anticipés dans le milieu :
A22: Est-ce que votre projet est ou sera récurrent ? Expliquez.
A26: Votre organisme prévoit-il faire des profits ?
A28: Si oui, que prévoyez-vous faire avec les profits ?
A32: Auprès de quels autres organismes ou entreprises avez-vous fait des demandes de financement ou de commandite ?
A35: De quelle façon comptez-vous offrir de la visibilité à la MRC d'Abitibi ? (Ex. affiche promotionnelle l'activité, mention lors de l'événement, diffusion sur la page Facebook, affiche des partenaires, etc.)
A38: Complétez tous les onglets ci-bas

Sheet Budget
A2: DÉPENSES PRÉVISIONNELLES LORS DU DÉPÔT | E2: DÉPENSES RÉELLES FINALES
A3: Achat prévisionnel (sans taxes) | B3: Dépenses monétaires prévues lors du dépôt | C3: % | E3: Dépenses monétaires réelles (sans taxes) | G3: %
C4: =IF(B4>0,(B4/$B$13),"") | G4: =IF(E4>0,(E4/$E$13),"")
C5: =IF(B5>0,(B5/$B$13),"") | G5: =IF(E5>0,(E5/$E$13),"")
C6: =IF(B6>0,(B6/$B$13),"") | G6: =IF(E6>0,(E6/$E$13),"")
C7: =IF(B7>0,(B7/$B$13),"") | G7: =IF(E7>0,(E7/$E$13),"")
C8: =IF(B8>0,(B8/$B$13),"") | G8: =IF(E8>0,(E8/$E$13),"")
C9: =IF(B9>0,(B9/$B$13),"") | G9: =IF(E9>0,(E9/$E$13),"")
C10: =IF(B10>0,(B10/$B$13),"") | G10: =IF(E10>0,(E10/$E$13),"")
C11: =IF(B11>0,(B11/$B$13),"") | G11: =IF(E11>0,(E11/$E$13),"")
A12: Insérez les taxes non-recouvrables | C12: =IF(B12>0,(B12/$B$13),"") | G12: =IF(E12>0,(E12/$E$13),"")
A13: SOMME TOTALE : | B13: =SUM(B4:B12) -> 0 | C13: =SUM(C4:C12) -> 0 | E13: =SUM(E4:E12) -> 0 | G13: =SUM(G4:G12) -> 0
A14: Assurez-vous que les cases de mêmes couleurs arrivent aux mêmes montants dans les tableaux des revenus et dépenses
A16: Subvention maximale de la MRC de 80 % du coût total du projet. 1e année :1250$ / 2e année : 1000 $ / 3e année : 750 $ / 4e année : 500$
A17: Le promoteur doit obligatoirement injecter un minimum de 10 % du coût total du projet en argent.
A18: L'autre 10 % du coût total du projet doit être injecté en argent par le promoteur ou des partenaires financiers.
A19: Les biens et services/bénévolat et cadeaux en tous genre ne sont pas admissibles.
A20: REVENUS PRÉVISIONNELS LORS DU DÉPÔT | E20: REVENUS RÉELS FINAUX
A21: Source de revenus pour le projet sans taxes | B21: Revenus monétaires prévus lors du dépôt | C21: % | E21: Revenus monétaires réels sans taxes | G21: %
C22: =IF(B22>0,(B22/$B$27),"") | G22: =IF(E22>0,(E22/$E$27),"")
C23: =IF(B23>0,(B23/$B$27),"") | G23: =IF(E23>0,(E23/$E$27),"")
C24: =IF(B24>0,(B24/$B$27),"") | G24: =IF(E24>0,(E24/$E$27),"")
C25: =IF(B25>0,(B25/$B$27),"") | G25: =IF(E25>0,(E25/$E$27),"")
C26: =IF(B26>0,(B26/$B$27),"") | G26: =IF(E26>0,(E26/$E$27),"")
A27: SOMME TOTALE : | B27: =SUM(B22:B26) -> 0 | C27: =SUM(C22:C26) -> 0 | E27: =SUM(E22:E26) -> 0 | G27: =SUM(G22:G26) -> 0
A28: Assurez-vous que les cases de mêmes couleurs arrivent aux mêmes montants dans les tableaux des revenus et dépenses
A30: Montant minimal injecté par le promoteur = Coût total du projet X 10 % | F30: =B27*0.1 -> 0
A33: Afin de démontrer l'implication dans le milieu, veuillez compléter ce tableau.
A34: COMMANDITES / BIENS ET SERVICES / BÉNÉVOLAT (non-finançable) | E34: BIENS ET SERVICES RÉELS
A35: Tâches accomplies en biens et services ou bénévolat | B35: Temps homme à 25$/heure | C35: % | E35: Valeur réelle à 25 $/h | G35: %
C36: =IF(B36>0,(B36/$B$27),"") | G36: =IF(E36>0,(E36/$E$27),"")
C37: =IF(B37>0,(B37/$B$27),"") | G37: =IF(E37>0,(E37/$E$27),"")
C38: =IF(B38>0,(B38/$B$27),"") | G38: =IF(E38>0,(E38/$E$27),"")
C39: =IF(B39>0,(B39/$B$27),"") | G39: =IF(E39>0,(E39/$E$27),"")
A40: SOMME TOTALE : | B40: =SUM(B36:B39) -> 0 | C40: =SUM(C36:C39) -> 0 | E40: =SUM(E36:E39) -> 0 | G40: =SUM(G36:G39) -> 0
A44: Précisez le pourcentage de taxes que votre organisme récupère auprès du gouvernement
A45: TPS : | B45: TVQ :

Sheet Signature et modalités
A2: DÉCLARATION DE L’ORGANISME ET AUTORISATION DE PUBLICATION
A3: En tant que personne autorisée par résolution à agir au nom de l’organisme, je confirme que les renseignements fournis dans cette demande et les documents afférents sont complets et véridiques en tous points et je m'engage à fournir aux représentants de la MRC d’Abitibi toute l'information nécessaire à l'analyse du projet.
A4: En tant que personne autorisée par résolution à agir au nom de l’organisme, j'accepte que la MRC d’Abitibi cite le titre de notre projet, le nom de notre organisme ou comité et le montant financé par le Fonds de la MRC d’Abitibi dans ses publicités, communiqués de presse ou tout autre outil faisant la promotion du fonds.
A5: Signature personne autorisée à déposer :
A6: Date :
A8: Signature direction générale :
A9: Date :
A11: Documents à joindre à la demande d’aide financière
A12: Résolution ou lettre d'appui de la municipalité où se tiendra le projet
A14: Le formulaire doit être déposé à la MRC d'Abitibi au moins 2 mois avant l'activité
A15: Complétez les autres onglets ci-bas

Sheet Rapport final
A3: Nom du promoteur :
A4: Titre du projet :
A5: # de dossier :
A6: Nombre d'emplois créés :
A7: LE PROJET A-T-IL ÉTÉ RÉALISÉ TEL QUE PRÉSENTÉ DANS LA DEMANDE DE FINANCEMENT ? OUI OU NON ?
A8: Si non, veuillez expliquer les écarts :
A10: LES OBJECTIFS DE L'ACTIVITÉ ONT-ILS ÉTÉ ATTEINTS ? QUEL MOYENS AVEZ-VOUS UTILISÉ POUR LES ATTEINDRE ?
A12: DE QUELLE FAÇON AVEZ-VOUS OFFERT DE LA VISIBILITÉ À LA MRC POUR LE FINANCEMENT DE VOTRE PROJET?
A14: POINTS FORTS DE L'ACTIVITÉ
A16: POINTS À AMÉLIORER DE L'ACTIVITÉ
A18: SIGNATURE
A19: Signature de la personne autorisée à déposer le rapport final :
... A25: Veuillez compléter la partie à droite de la ligne bleue dans l'onglet "Budget" --> Dépenses réelles finales

Sheet Grille d'analyse
A1: Nom du promoteur | B1: ='Identification et description'!A3 -> 0
A2: Nom du projet | B2: ='Identification et description'!A5 -> 0
A3: Numéro du projet
A5: ADMISSIBILITÉ DU PROJET | C5: OUI | D5: NON
A6: Le projet s’inscrit à l’intérieur d’un champ d’intervention prioritaire
A7: Organisme ou entreprise admissible, signataire de la Charte ou en voie de le devenir
A8: Les critères de financement du projet sont admissibles
A9: La demande contient toutes les informations et documents exigés requis pour effectuer son analyse
A10: Le promoteur a complété les projets pour lesquels il a obtenu du financement de la part de la MRC
A11: Le projet est en opération continue et récurrente durant un minimum de 10 semaines par année et pour les événements au moins 1 jour.
A12: Le Fonds ne se substitue pas à d’autres sources de financement disponibles en région
A14: Note : Dans le cas où les critères de cette section ne sont pas respectés, le projet n’est pas présenté au comité d’analyse.
A16: Constat de la MRC
A17: - Projet admissible ou non
A19: Résumé du projet : | B19: ='Identification et description'!A17 -> 0
A20: Objectifs poursuivis : | B20: ='Identification et description'!A19 -> 0
A21: Montant demandé : | B21: ='Identification et description'!B11 -> 0
A23: Éléments d’analyse (complété par l’analyste de la MRC) :
A24: -
A26: PONDÉRATION COMPLÉTÉE PAR LE COMITÉ D’ANALYSE
A27: Les ½ points peuvent être utilisés par les analystes
A29: QUALITÉ DU PROMOTEUR ET DU PROJET | C29: MAX | D29: NOTE
A30: Le promoteur démontre qu’il a la capacité de réaliser le projet et d’en assurer la pérennité | C30: 2 PTS
A31: Les visiteurs ont accès au projet sur plus d’une saison (automne, hiver, été, printemps) | C31: 2 PTS
A32: ='Identification et description'!A23 -> 0
A33: Le visiteur vit une expérience d’accueil, visuelle, sensorielle, gustative ou auditive | C33: 1 PT
A34: =#REF! -> #REF!
A35: Le projet est innovateur dans la MRC | C35: 1 PT
A36: ='Identification et description'!A27 -> 0
A37: Le projet est innovateur en région | C37: 1 PT
A38: ='Identification et description'!A29 -> 0
A39: Le projet répond aux champs d’interventions prioritaires (2 champs = 1 pt / 3 champs = 2 pts / 4 champs = 3 pts / 5 champs = 4 pts) | C39: 4 PT
A40: Développer l'hébergement alternatif créatif (expérience nature/plein air)
A41: =#REF! -> #REF!
A42: Structurer l'expérience de la richesse hydrique, d'aventure et de plein air ;
A43: =#REF! -> #REF!
A44: Actualiser et mettre à niveau l'offre touristique autochtone ;
A45: =#REF! -> #REF!
A46: Rehausser la qualité de l'offre touristique (innovation, créativité, techno, arts) ;
A47: =#REF! -> #REF!
...
