Workbook

Sheet Identification et description
A1: IDENTIFICATION DU PROMOTEUR
A2: Nom de l’organisme responsable du projet | B2: Numéro d’entreprise du Québec (NEQ)
A4: Nom du projet
A6: Personne responsable et titre | B6: Numéro de téléphone
A8: Adresse complète | B8: Courriel
A10: Date du début du projet | B10: Montant demandé
A12: Date approximative de fin du projet | B12: Coût total du projet
A15: DESCRIPTION DU PROJET
A16: Lieu de réalisation du projet
A18: Description résumée du projets et objectifs
A20: (suite) Description résumée du projets et objectifs
A22: Si votre projet inclus plusieurs phases, décrivez chacune des phases et les années de réalisation prévues
A24: Est-ce que le projet émane d'une problématique nommée par les citoyens ou les partenaires ? Si oui, en quoi le projet répond-il à la problématique ?
A26: Innovation / Nouveau concept
A27: a) Décrivez en quoi votre projet présente un nouveau concept (innovation) au sein de la municipalité?
A29: b) Décrivez en quoi votre projet présente un nouveau concept (innovation) au sein de la MRC ?
A32: Projets avec clientèles priorisées
A33: Est-ce que votre projet s'adresse spécifiquement aux adolescents 12-18 ans ? Expliquez de quelle façon ils seront impliqués dans la réalisation du projet.
A36: Est-ce que votre projet s'adresse spécifiquement aux aînés ? Si oui, expliquez.
... A53: d'impression dans la page du budget.

Sheet Questions spécifiques
A1: CARACTÉRISTIQUES D'UN PROJET STRUCTURANT
A2: Décrivez en quoi le projet projet créera des changements significatifs, une influence constante et persistante sur le développement de la municipalité.
A4: Décrivez en quoi le projet encouragera la municipalité ou les citoyens à entreprendre des nouvelles actions liées au projet, stimulant ainsi le développement continu du milieu ?
A6: CHAMPS D'INTERVENTIONS PRIORITAIRES
A7: En quoi votre projet favorise l’émergence d’idées nouvelles qui permettent d’améliorer la qualité de vie et qui ont un impact sur le sentiment d’appartenance des citoyens. (Si votre projet a un impact dans plus d’une municipalité, nommez-le.)
A9: De quelle(s) façon(s) votre projet permet aux citoyens de votre municipalité d'avoir accès à des infrastructures/services/activités de proximité leur donnant envie de demeurer dans votre municipalité?
A11: De quelle(s) façon(s) votre projet développe ou maximise l’utilisation intergénérationnelle des équipements/infrastructures de sports et de loisirs?
A13: De quelle(s) façon(s) votre projet favorise les améliorations ou initiatives environnementales durables favorisant les saines habitudes de vie, de mobilité durable ou d’embellissement permanent des milieux de vie?
A16: Nommez les retombées qu'engendrera votre projet, s'il y a lieu.
A17: RETOMBÉES ÉCONOMIQUES : Quels sont les impacts financiers liés à la réalisation de votre projet dans votre milieu ? Stimulation du marché local, diversification ou innovation en lien avec l'économie?
A19: RETOMBÉES SOCIALES : Quels sont les impacts liés à la réalisation de votre projet sur le bien-être, la cohésion sociale, les liens intergénérationnels, les saines habitudes de vie ?
A21: RETOMBÉES CULTURELLES : Quels sont les impacts liés à votre projet sur la tenue d'activités culturelles, artistiques ou la préservation du patrimoine ?
... A32: d'impression dans la page du budget.

Sheet Budget
A2: DÉPENSES PRÉVISIONNELLES LORS DU DÉPÔT | E2: DÉPENSES RÉELLES FINALES
A3: Achat prévisionnel (sans taxes) | B3: Dépenses monétaires prévues lors du dépôt | C3: % | E3: Dépenses monétaires réelles (sans taxes) | G3: %
C4: =IF(B4>0,(B4/$B$13),"") | G4: =IF(E4>0,(E4/$E$13),"")
C5: =IF(B5>0,(B5/$B$13),"") | G5: =IF(E5>0,(E5/$E$13),"")
C6: =IF(B6>0,(B6/$B$13),"") | G6: =IF(E6>0,(E6/$E$13),"")
C7: =IF(B7>0,(B7/$B$13),"") | G7: =IF(E7>0,(E7/$E$13),"")
C8: =IF(B8>0,(B8/$B$13),"") | G8: =IF(E8>0,(E8/$E$13),"")
C9: =IF(B9>0,(B9/$B$13),"") | G9: =IF(E9>0,(E9/$E$13),"")
C10: =IF(B10>0,(B10/$B$13),"") | G10: =IF(E10>0,(E10/$E$13),"")
C11: =IF(B11>0,(B11/$B$13),"") | G11: =IF(E11>0,(E11/$E$13),"")
A12: Insérez les taxes non-recouvrables | C12: =IF(B12>0,(B12/$B$13),"") | E12: =G81 -> 0 | G12: =IF(E12>0,(E12/$E$13),"")
A13: SOMME TOTALE : | B13: =SUM(B4:B12) -> 0 | C13: =SUM(C4:C12) -> 0 | E13: =E4+E5+E6+E7+E8+E9+E10+E11+E12 -> 0 | G13: =SUM(G4:G12) -> 0
A14: Assurez-vous que les cases de mêmes couleurs arrivent aux mêmes montants dans les tableaux des revenus et dépenses
A16: Subvention maximale de la MRC de 80 % du coût total du projet jusqu'à concurrence de 30 000 $.
A17: Le promoteur doit obligatoirement injecter un minimum de 10 % du coût total du projet en argent.
A18: L'autre 10 % du coût total du projet doit être injecté en argent par le promoteur ou des partenaires financiers.
A19: REVENUS PRÉVISIONNELS LORS DU DÉPÔT | E19: REVENUS RÉELS FINAUX
A20: Source de revenus pour le projet sans taxes | B20: Revenus monétaires prévus lors du dépôt | C20: % | E20: Revenus monétaires réels sans taxes | G20: %
C21: =IF(B21>0,(B21/$B$26),"") | G21: =IF(E21>0,(E21/$E$26),"")
C22: =IF(B22>0,(B22/$B$26),"") | G22: =IF(E22>0,(E22/$E$26),"")
C23: =IF(B23>0,(B23/$B$26),"") | G23: =IF(E23>0,(E23/$E$26),"")
C24: =IF(B24>0,(B24/$B$26),"") | G24: =IF(E24>0,(E24/$E$26),"")
C25: =IF(B25>0,(B25/$B$26),"") | G25: =IF(E25>0,(E25/$E$26),"")
A26: SOMME TOTALE : | B26: =SUM(B21:B25) -> 0 | C26: =SUM(C21:C25) -> 0 | E26: =SUM(E21:E25) -> 0 | G26: =SUM(G21:G25) -> 0
A27: Assurez-vous que les cases de mêmes couleurs arrivent aux mêmes montants dans les tableaux des revenus et dépenses
A29: Subvention maximale du Fonds structurants = Coût total du projet X 80 % | F29: =IF((B26*0.8)>30000,30000,(B26*0.8)) -> 0
A30: Montant minimal injecté par le promoteur = Coût total du projet X 10 % | F30: =B26*0.1 -> 0
A33: Afin de démontrer l'implication dans le milieu, veuillez compléter ce tableau.
A34: COMMANDITES / BIENS ET SERVICES / BÉNÉVOLAT (non-finançable) | E34: BIENS ET SERVICES RÉELS
A35: Tâches accomplies en biens et services ou bénévolat | B35: Temps homme à 25$/heure | C35: % | E35: Valeur réelle à 25 $/h | G35: %
C36: =IF(B36>0,(B36/$B$26),"") | G36: =IF(E36>0,(E36/$E$26),"")
C37: =IF(B37>0,(B37/$B$26),"") | G37: =IF(E37>0,(E37/$E$26),"")
C38: =IF(B38>0,(B38/$B$26),"") | G38: =IF(E38>0,(E38/$E$26),"")
C39: =IF(B39>0,(B39/$B$26),"") | G39: =IF(E39>0,(E39/$E$26),"")
A40: SOMME TOTALE : | B40: =SUM(B36:B39) -> 0 | C40: =SUM(C36:C39) -> 0 | E40: =SUM(E36:E39) -> 0 | G40: =SUM(G36:G39) -> 0
A44: Précisez le pourcentage de taxes que votre organisme récupère auprès du gouvernement
A45: TPS : | B45: TVQ :
A48: Transmettre toutes les factures incluses dans ce tableau svp!
A49: Si vous êtes une municipalité, entrez seulement la TVQ
A50: DÉTAILS DES FACTURES - DÉPENSES
...

Sheet Signature et modalités
A2: DÉCLARATION DE L’ORGANISME ET AUTORISATION DE PUBLICATION
A3: En tant que personne autorisée par résolution à agir au nom de l’organisme, je confirme que les renseignements fournis dans cette demande et les documents afférents sont complets et véridiques en tous points et je m'engage à fournir aux représentants de la MRC d’Abitibi toute l'information nécessaire à l'analyse du projet.
A4: En tant que personne autorisée par résolution à agir au nom de l’organisme, j'accepte que la MRC d’Abitibi cite le titre de notre projet, le nom de notre organisme ou comité et le montant financé par le Fonds de la MRC d’Abitibi dans ses publicités, communiqués de presse ou tout autre outil faisant la promotion du fonds.
A5: Signature personne autorisée à déposer :
A6: Date :
A7: Signature direction générale :
A8: Date :
A10: Documents à joindre à la demande d’aide financière
A11: Lettres d'appui ou de confirmation des partenariats financiers, techniques, organismes/citoyens bénévoles
A12: Résolution de l’organisme mandatant la personne signataire du formulaires et autres documents
A13: Résolution OU lettre d'appui de la municipalité hôte du projet (DOIT ÊTRE DÉPOSÉ AVANT LA DATE DE TOMBÉE!)
A14: Formulaire complété déposé sur le site internet (joindre les 2 versions soit en EXCEL et PDF!)

Sheet Rapport final
A3: Nom du promoteur :
A4: Titre du projet :
A5: # de dossier :
A6: Nombre d'emplois créés :
A7: LE PROJET A-T-IL ÉTÉ RÉALISÉ TEL QUE PRÉSENTÉ DANS LA DEMANDE DE FINANCEMENT ? OUI OU NON ?
A8: Si non, veuillez expliquer les écarts :
A15: QUELS SONT LES IMPACTS SUR LA QUALITÉ DE VIE DES CITOYENS ?
A22: DE QUELLE FAÇON AVEZ-VOUS OFFERT DE LA VISIBILITÉ À LA MRC POUR LE FINANCEMENT DE VOTRE PROJET?
A30: suite à la page suivante
A31: SIGNATURE
A32: Signature de la personne autorisée à déposer le rapport final :
A33: Signature de la direction générale :
... A36: N'OUBLIEZ PAS DE TRANSMETTRE DES PHOTOS DE VOTRE PROJET COMPLÉTÉ

Sheet Grille d'analyse
A1: Nom du promoteur | B1: ='Identification et description'!A3 -> 0
A2: Nom du projet | B2: ='Identification et description'!A5 -> 0
A3: Numéro du projet
A5: ADMISSIBILITÉ DU PROJET | C5: OUI | D5: NON
A6: Le projet s’inscrit à l’intérieur d’un champ d’intervention prioritaire | C6: x
A7: • Idée nouvelle permet d'offrir milieu de vie stimulants + sentiment d'appartenance; • Projet innovant d'accessibilité et de maintien en milieu rural • Dév. ou maximiser l'utilisation intergénérationnelle des infrastructures sports/loisirs • Initiatives environnementales durables ou embellissement permanent des millieux • Favoriser la participation citoyenne et l'engagement du milieu dans les projets
A8: Le projet répond à au moins une caractéristique structurante identifiée | C8: x
A9: •Crée des changements significatifs, une influence constante et persistante sur le développement; •Répond à une problématique nommée par les citoyens ou les partenaires ; •Démontre que le projet mobilise les acteurs locaux et/ou régionaux ; •Encourage le milieu à entreprendre des nouvelles actions liées au projet; •Contribue de façon significative à améliorer la qualité de vie.
A10: Le projet est porté par un organisme admissible | C10: x
A11: Les critères de financement du projet sont admissibles | C11: x
A12: Le promoteur injecte au moins 10 % en argent comptant dans le projet
A13: Le promoteur n'a pas plus de 20 % en biens et services dans le projet
A14: Le cumul des aides gouvernementales et régionales ne dépassent pas 80 %
A15: La demande contient toutes les informations requises pour effectuer son analyse | C15: x
A16: Le promoteur a complété les projets pour lesquels il a obtenu du financement de la part de la MRC | C16: x
A17: Le Fonds ne se substitue pas à d’autres sources de financement disponibles en région | C17: x
A18: Note : Dans le cas où les critères de cette section ne sont pas respectés, le projet n’est pas présenté au comité d’analyse.
A20: Constat de la MRC
A21: Projet admissible, dépenses admissibles ou non
A22: Projet dédié aux adolescents ou aînés
A25: Description résumée du projet et objectifs | B25: ='Identification et description'!A19 -> 0
A26: Plusieurs phases au projet? | B26: ='Identification et description'!A23 -> 0
A27: Montant demandé : | B27: ='Identification et description'!B11 -> 0
A29: Éléments d’analyse (complété par l’analyste de la MRC) :
A32: PONDÉRATION COMPLÉTÉE PAR LE COMITÉ D’ANALYSE
A33: Les ½ points peuvent être utilisés par les analystes
A35: QUALITÉ DU PROMOTEUR ET DU PROJET | C35: MAX | D35: NOTE
A36: Le projet implique une municipalité à revitaliser (2 TNO, Rochebaucourt-La Morandière) | C36: 1 PT
A37: Le projet démontre une certaine recherche et le promoteur démontre qu'il a la capacité de réaliser le projet et d'en assurer la pérennité | C37: 2 PTS
A38: Le projet démontre des critères de durabilité (plus de 2 ans) | C38: 2 PTS
A39: Le projet répond à une problématique exprimée par les citoyens/partenaires | C39: 2 PTS
A40: ='Identification et description'!A25 -> 0
A41: Le projet présente un nouveau concept (innovation) dans la municipalité | C41: 1 PT
A42: ='Identification et description'!A28 -> 0
A43: Le projet présente un nouveau concept (innovation) dans la MRC | C43: 1 PT
A44: ='Identification et description'!A30 -> 0
A45: CARACTÉRISTIQUE STRUCTURANTES D'UN PROJET | C45: NOTE | D45: MAX
A46: Décrivez en quoi le projet projet créeera des changements significatifs, une influence constante et persistante sur le développement de la municipalité. | C46: 1 PT
A47: ='Questions spécifiques'!A3 -> 0
A48: En quoi le projet encouragera-t-il la municipalité ou les citoyens à entreprendre des nouvelles actions liées au projet, stimulant ainsi le développement continu du milieu ? | C48: 1 PT
...
